













BEGIN:VCALENDAR
VERSION:2.0
PRODID:-//Ticket Location - ECPv6.7.0//NONSGML v1.0//EN
CALSCALE:GREGORIAN
METHOD:PUBLISH
X-WR-CALNAME:Ticket Location
X-ORIGINAL-URL:https://ticketlocation.com
X-WR-CALDESC:Events for Ticket Location
REFRESH-INTERVAL;VALUE=DURATION:PT1H
X-Robots-Tag:noindex
X-PUBLISHED-TTL:PT1H
BEGIN:VTIMEZONE
TZID:Europe/London
BEGIN:DAYLIGHT
TZOFFSETFROM:+0000
TZOFFSETTO:+0100
TZNAME:BST
DTSTART:20260329T010000
END:DAYLIGHT
BEGIN:STANDARD
TZOFFSETFROM:+0100
TZOFFSETTO:+0000
TZNAME:GMT
DTSTART:20261025T010000
END:STANDARD
END:VTIMEZONE
BEGIN:VEVENT
DTSTART;TZID=Europe/London:20260320T220000
DTEND;TZID=Europe/London:20260321T060000
DTSTAMP:20260421T000946
CREATED:20260225T015712Z
LAST-MODIFIED:20260409T204716Z
UID:10000328-1774044000-1774072800@ticketlocation.com
SUMMARY:MEGA DESANDE AUTOMOTIVO • CONEXÃO EUROPEIA • BAILE 062 x BRAZUCARS
DESCRIPTION:MEGA DESANDE AUTOMOTIVO maior que nunca\, em um novo local\, +8 Carros já confirmados juntamente com uma line up de peso que revelaremos em breve para vocês!! \n \nPara os verdadeiros amantes do som automotivo\, garantam já o vosso ingresso pois 20.03\, Londres será o maior palco de SOM AUTOMOTIVO da Europa em um espaço para 2000 PESSOAS pela primeira vez visto na Capital Britânica! \n \nVenha viver a experiência\, vem pro MEGA DESANDE AUTOMOTIVO!
URL:https://ticketlocation.com/event/mega-desande-automotivo-conexao-europeia-baile-062-x-brazucars/
LOCATION:CLUB 360\, Unit 10\, The High Cross Center\, Fountayne Rd\, London\, N15 4QN\, United Kingdom
ATTACH;FMTTYPE=image/png:https://ticketlocation.com/wp-content/uploads/2026/03/IMG_6638.png
END:VEVENT
END:VCALENDAR