













BEGIN:VCALENDAR
VERSION:2.0
PRODID:-//Ticket Location - ECPv6.7.0//NONSGML v1.0//EN
CALSCALE:GREGORIAN
METHOD:PUBLISH
X-WR-CALNAME:Ticket Location
X-ORIGINAL-URL:https://ticketlocation.com
X-WR-CALDESC:Events for Ticket Location
REFRESH-INTERVAL;VALUE=DURATION:PT1H
X-Robots-Tag:noindex
X-PUBLISHED-TTL:PT1H
BEGIN:VTIMEZONE
TZID:Europe/London
BEGIN:DAYLIGHT
TZOFFSETFROM:+0000
TZOFFSETTO:+0100
TZNAME:BST
DTSTART:20260329T010000
END:DAYLIGHT
BEGIN:STANDARD
TZOFFSETFROM:+0100
TZOFFSETTO:+0000
TZNAME:GMT
DTSTART:20261025T010000
END:STANDARD
END:VTIMEZONE
BEGIN:VEVENT
DTSTART;TZID=Europe/London:20260425T220000
DTEND;TZID=Europe/London:20260426T050000
DTSTAMP:20260420T223248
CREATED:20260419T021311Z
LAST-MODIFIED:20260419T021311Z
UID:10000356-1777154400-1777179600@ticketlocation.com
SUMMARY:EXXPLANA vs NOSSO BAILE • BAILE FUNK • SÁBADO • NORTE DE LONDRES
DESCRIPTION:Isso não é só uma festa. É baile. \n \nEXXPLANA e Nosso Baile juntam forças pra trazer uma noite feita pra pista — funk\, beats brasileiros\, edits\, hip-hop e aquela mistura que só quem vive sabe. \n \nGrave batendo\, pista quente e energia do início ao fim. \n \nSe tu já conhece\, sabe o que te espera. \n Se não… chegou a tua vez. \n \nLine-up na pressão: \n Taigo Rezende / DJ Al / Gazzo / DJ Lora \n \nGente bonita\, ambiente pesado e uma vibe que não dá pra explicar — só vivendo. \n \n📍 Unit 10\, The High Cross Centre\, N15 4QN \n 🕙 22h às 06h \n \nBilhetes limitados — não deixa pra última hora. Vai esgotar.
URL:https://ticketlocation.com/event/exxplana-vs-nosso-baile-baile-funk-sabado-norte-de-londres/
LOCATION:CLUB 360\, Unit 10\, The High Cross Center\, Fountayne Rd\, London\, N15 4QN\, United Kingdom
ATTACH;FMTTYPE=image/png:https://ticketlocation.com/wp-content/uploads/2026/04/EXXPLANA-VS-NB-TICKET-1.png
END:VEVENT
BEGIN:VEVENT
DTSTART;TZID=Europe/London:20260425T220000
DTEND;TZID=Europe/London:20260426T060000
DTSTAMP:20260420T223248
CREATED:20260327T020319Z
LAST-MODIFIED:20260420T013728Z
UID:10000341-1777154400-1777183200@ticketlocation.com
SUMMARY:MEGA DESANDE AUTOMOTIVO • ESPECIAL 5 ANOS BRAZUCARS
DESCRIPTION:Baile do 062 & Brazucars apresenta mega desande automotivo edição especial 5 anos de Brazucars\, com atração diretamente de Goiânia esse evento promete parar Londres
URL:https://ticketlocation.com/event/mega-desande-automotivo-especial-5-anos-brazucars/
LOCATION:CLUB 360\, Unit 10\, The High Cross Center\, Fountayne Rd\, London\, N15 4QN\, United Kingdom
ATTACH;FMTTYPE=image/png:https://ticketlocation.com/wp-content/uploads/2026/04/IMG_1141.png
END:VEVENT
BEGIN:VEVENT
DTSTART;TZID=Europe/London:20260509T190000
DTEND;TZID=Europe/London:20260509T230000
DTSTAMP:20260420T223248
CREATED:20260409T193912Z
LAST-MODIFIED:20260419T155412Z
UID:10000347-1778353200-1778367600@ticketlocation.com
SUMMARY:VEIGH EM LONDRES
DESCRIPTION:Londres prepara-se para receber uma das maiores forças da música atual. No dia 09 de Maio\, o Club 360° transforma-se no epicentro de uma experiência única\, marcada pela presença de um artista que transcende gerações\, fronteiras e tendências. \n \nReconhecido pelo seu impacto global\, números impressionantes e uma legião de fãs fiel\, ele não é apenas um nome — é um fenómeno. Cada lançamento torna-se um sucesso\, cada performance transforma-se num espetáculo memorável\, e cada palco que pisa é elevado a outro nível. \n \nEsta noite foi desenhada para quem procura mais do que uma simples festa. É para quem valoriza produção de alto nível\, energia contagiante e uma ligação real entre artista e público. Um ambiente onde cada detalhe é pensado para criar uma experiência imersiva\, intensa e inesquecível. \n \nDos maiores hits que marcaram a sua carreira às vibrações que dominam as pistas atualmente\, prepara-te para viver momentos que só acontecem quando talento\, presença e público se encontram no mesmo espaço. \n \n📍 Club 360° — Londres \n📅 Sábado\, 09 de Maio \n \nGarante já o teu lugar e faz parte de uma noite que promete entrar para a história.
URL:https://ticketlocation.com/event/veigh-em-londres/
LOCATION:CLUB 360\, Unit 10\, The High Cross Center\, Fountayne Rd\, London\, N15 4QN\, United Kingdom
ATTACH;FMTTYPE=image/png:https://ticketlocation.com/wp-content/uploads/2026/04/VEIGH-IN-LONDON-SITE.png
END:VEVENT
END:VCALENDAR