













BEGIN:VCALENDAR
VERSION:2.0
PRODID:-//Ticket Location - ECPv6.7.0//NONSGML v1.0//EN
CALSCALE:GREGORIAN
METHOD:PUBLISH
X-ORIGINAL-URL:https://ticketlocation.com
X-WR-CALDESC:Events for Ticket Location
REFRESH-INTERVAL;VALUE=DURATION:PT1H
X-Robots-Tag:noindex
X-PUBLISHED-TTL:PT1H
BEGIN:VTIMEZONE
TZID:Europe/London
BEGIN:DAYLIGHT
TZOFFSETFROM:+0000
TZOFFSETTO:+0100
TZNAME:BST
DTSTART:20260329T010000
END:DAYLIGHT
BEGIN:STANDARD
TZOFFSETFROM:+0100
TZOFFSETTO:+0000
TZNAME:GMT
DTSTART:20261025T010000
END:STANDARD
END:VTIMEZONE
BEGIN:VEVENT
DTSTART;TZID=Europe/London:20260417T230000
DTEND;TZID=Europe/London:20260418T040000
DTSTAMP:20260421T125459
CREATED:20260414T102404Z
LAST-MODIFIED:20260417T234549Z
UID:10000350-1776466800-1776484800@ticketlocation.com
SUMMARY:AZZURA x DEAR DARLING
DESCRIPTION:AZZURA x DEAR DARLING \n \nAn intimate night in the heart of London\, where the music\, the crowd and the atmosphere come together effortlessly. \n \nThis Friday\, Azzura takes over Dear Darling for a curated late-night experience\, bringing together our signature sound with a refined and stylish setting. \n \nExpect a carefully selected crowd\, elevated energy\, and a dancefloor that builds from the very first track. \n \nEvent Details: \nFriday 17th October \n23:00 — 04:00 \nDear Darling\, 91 Jermyn St\, SW1Y 6JB \n \nImportant Information: \n– Dress code: Dress to impress \n– Valid physical ID required (no ID\, no entry) \n– Entry is subject to venue capacity and management discretion \n \nTickets are limited. \n \nAzzura — The atmosphere is everything.
URL:https://ticketlocation.com/event/azzura-x-dear-darling/
LOCATION:Dear Darling\, 91 Jermyn St\, London\, SW1Y 6JB\, United Kingdom
ATTACH;FMTTYPE=image/jpeg:https://ticketlocation.com/wp-content/uploads/2026/04/519cbdc4-0272-4fd1-8122-d79e0952add1-1.jpeg
END:VEVENT
END:VCALENDAR